BEGIN:VCALENDAR
VERSION:2.0
PRODID:icalendar-ruby
CALSCALE:GREGORIAN
METHOD:PUBLISH
BEGIN:VEVENT
DTSTAMP:20260421T103705Z
UID:5-864275@eastellijaybaptist.com
DTSTART:20230305T160000Z
DTEND:20230305T170000Z
CLASS:PUBLIC
CREATED:20260420T200208
DESCRIPTION:Sunday Worship
LAST-MODIFIED:20260420T200208
LOCATION:
SUMMARY:Sunday Worship
URL;VALUE=URI:https://eastellijaybaptist.com/events/sunday-worship/2023-03-
 05
END:VEVENT
END:VCALENDAR
