BEGIN:VCALENDAR
VERSION:2.0
PRODID:icalendar-ruby
CALSCALE:GREGORIAN
METHOD:PUBLISH
BEGIN:VEVENT
DTSTAMP:20260421T121324Z
UID:5-864749@eastellijaybaptist.com
DTSTART:20230312T150000Z
DTEND:20230312T160000Z
CLASS:PUBLIC
CREATED:20260421T070822
DESCRIPTION:Sunday Worship
LAST-MODIFIED:20260421T070822
LOCATION:
SUMMARY:Sunday Worship
URL;VALUE=URI:https://eastellijaybaptist.com/events/sunday-worship/2023-03-
 12
END:VEVENT
END:VCALENDAR
