BEGIN:VCALENDAR
VERSION:2.0
PRODID:icalendar-ruby
CALSCALE:GREGORIAN
METHOD:PUBLISH
BEGIN:VEVENT
DTSTAMP:20260421T140402Z
UID:5-865223@eastellijaybaptist.com
DTSTART:20230319T150000Z
DTEND:20230319T160000Z
CLASS:PUBLIC
CREATED:20260421T094401
DESCRIPTION:Sunday Worship
LAST-MODIFIED:20260421T094401
LOCATION:
SUMMARY:Sunday Worship
URL;VALUE=URI:https://eastellijaybaptist.com/events/sunday-worship/2023-03-
 19
END:VEVENT
END:VCALENDAR
