BEGIN:VCALENDAR
VERSION:2.0
PRODID:icalendar-ruby
CALSCALE:GREGORIAN
METHOD:PUBLISH
BEGIN:VEVENT
DTSTAMP:20260421T154626Z
UID:5-865224@eastellijaybaptist.com
DTSTART:20230326T150000Z
DTEND:20230326T160000Z
CLASS:PUBLIC
CREATED:20260421T094401
DESCRIPTION:Sunday Worship
LAST-MODIFIED:20260421T094401
LOCATION:
SUMMARY:Sunday Worship
URL;VALUE=URI:https://eastellijaybaptist.com/events/sunday-worship/2023-03-
 26
END:VEVENT
END:VCALENDAR
