BEGIN:VCALENDAR
VERSION:2.0
PRODID:icalendar-ruby
CALSCALE:GREGORIAN
METHOD:PUBLISH
BEGIN:VEVENT
DTSTAMP:20260421T173702Z
UID:5-865698@eastellijaybaptist.com
DTSTART:20230402T150000Z
DTEND:20230402T160000Z
CLASS:PUBLIC
CREATED:20260421T122200
DESCRIPTION:Sunday Worship
LAST-MODIFIED:20260421T122200
LOCATION:
SUMMARY:Sunday Worship
URL;VALUE=URI:https://eastellijaybaptist.com/events/sunday-worship/2023-04-
 02
END:VEVENT
END:VCALENDAR
