BEGIN:VCALENDAR
VERSION:2.0
PRODID:icalendar-ruby
CALSCALE:GREGORIAN
METHOD:PUBLISH
BEGIN:VEVENT
DTSTAMP:20260421T204935Z
UID:5-866173@eastellijaybaptist.com
DTSTART:20230416T150000Z
DTEND:20230416T160000Z
CLASS:PUBLIC
CREATED:20260421T145948
DESCRIPTION:Sunday Worship
LAST-MODIFIED:20260421T145948
LOCATION:
SUMMARY:Sunday Worship
URL;VALUE=URI:https://eastellijaybaptist.com/events/sunday-worship/2023-04-
 16
END:VEVENT
END:VCALENDAR
