BEGIN:VCALENDAR
VERSION:2.0
PRODID:icalendar-ruby
CALSCALE:GREGORIAN
METHOD:PUBLISH
BEGIN:VEVENT
DTSTAMP:20260422T064318Z
UID:5-867125@eastellijaybaptist.com
DTSTART:20230528T150000Z
DTEND:20230528T160000Z
CLASS:PUBLIC
CREATED:20260421T201535
DESCRIPTION:Sunday Worship
LAST-MODIFIED:20260421T201535
LOCATION:
SUMMARY:Sunday Worship
URL;VALUE=URI:https://eastellijaybaptist.com/events/sunday-worship/2023-05-
 28
END:VEVENT
END:VCALENDAR
