BEGIN:VCALENDAR
VERSION:2.0
PRODID:icalendar-ruby
CALSCALE:GREGORIAN
METHOD:PUBLISH
BEGIN:VEVENT
DTSTAMP:20260422T233147Z
UID:5-869500@eastellijaybaptist.com
DTSTART:20230806T150000Z
DTEND:20230806T160000Z
CLASS:PUBLIC
CREATED:20260422T185435
DESCRIPTION:Sunday Worship
LAST-MODIFIED:20260422T185435
LOCATION:
SUMMARY:Sunday Worship
URL;VALUE=URI:https://eastellijaybaptist.com/events/sunday-worship/2023-08-
 06
END:VEVENT
END:VCALENDAR
