BEGIN:VCALENDAR
VERSION:2.0
PRODID:icalendar-ruby
CALSCALE:GREGORIAN
METHOD:PUBLISH
BEGIN:VEVENT
DTSTAMP:20260423T042636Z
UID:5-869976@eastellijaybaptist.com
DTSTART:20230827T150000Z
DTEND:20230827T160000Z
CLASS:PUBLIC
CREATED:20260422T214701
DESCRIPTION:Sunday Worship
LAST-MODIFIED:20260422T214701
LOCATION:
SUMMARY:Sunday Worship
URL;VALUE=URI:https://eastellijaybaptist.com/events/sunday-worship/2023-08-
 27
END:VEVENT
END:VCALENDAR
