BEGIN:VCALENDAR
VERSION:2.0
PRODID:icalendar-ruby
CALSCALE:GREGORIAN
METHOD:PUBLISH
BEGIN:VEVENT
DTSTAMP:20260423T105756Z
UID:5-869980@eastellijaybaptist.com
DTSTART:20230924T150000Z
DTEND:20230924T160000Z
CLASS:PUBLIC
CREATED:20260422T214701
DESCRIPTION:Sunday Worship
LAST-MODIFIED:20260422T214701
LOCATION:
SUMMARY:Sunday Worship
URL;VALUE=URI:https://eastellijaybaptist.com/events/sunday-worship/2023-09-
 24
END:VEVENT
END:VCALENDAR
