BEGIN:VCALENDAR
VERSION:2.0
PRODID:icalendar-ruby
CALSCALE:GREGORIAN
METHOD:PUBLISH
BEGIN:VEVENT
DTSTAMP:20260423T122937Z
UID:5-870455@eastellijaybaptist.com
DTSTART:20231001T150000Z
DTEND:20231001T160000Z
CLASS:PUBLIC
CREATED:20260423T071637
DESCRIPTION:Sunday Worship
LAST-MODIFIED:20260423T071637
LOCATION:
SUMMARY:Sunday Worship
URL;VALUE=URI:https://eastellijaybaptist.com/events/sunday-worship/2023-10-
 01
END:VEVENT
END:VCALENDAR
