BEGIN:VCALENDAR
VERSION:2.0
PRODID:icalendar-ruby
CALSCALE:GREGORIAN
METHOD:PUBLISH
BEGIN:VEVENT
DTSTAMP:20260425T121949Z
UID:5-876172@eastellijaybaptist.com
DTSTART:20240421T150000Z
DTEND:20240421T160000Z
CLASS:PUBLIC
CREATED:20260425T071047
DESCRIPTION:Sunday Worship
LAST-MODIFIED:20260425T071047
LOCATION:
SUMMARY:Sunday Worship
URL;VALUE=URI:https://eastellijaybaptist.com/events/sunday-worship/2024-04-
 21
END:VEVENT
END:VCALENDAR
