BEGIN:VCALENDAR
VERSION:2.0
PRODID:icalendar-ruby
CALSCALE:GREGORIAN
METHOD:PUBLISH
BEGIN:VEVENT
DTSTAMP:20260425T135933Z
UID:5-876647@eastellijaybaptist.com
DTSTART:20240428T150000Z
DTEND:20240428T160000Z
CLASS:PUBLIC
CREATED:20260425T095211
DESCRIPTION:Sunday Worship
LAST-MODIFIED:20260425T095211
LOCATION:
SUMMARY:Sunday Worship
URL;VALUE=URI:https://eastellijaybaptist.com/events/sunday-worship/2024-04-
 28
END:VEVENT
END:VCALENDAR
