BEGIN:VCALENDAR
VERSION:2.0
PRODID:icalendar-ruby
CALSCALE:GREGORIAN
METHOD:PUBLISH
BEGIN:VEVENT
DTSTAMP:20260425T171653Z
UID:5-877123@eastellijaybaptist.com
DTSTART:20240512T150000Z
DTEND:20240512T160000Z
CLASS:PUBLIC
CREATED:20260425T123241
DESCRIPTION:Sunday Worship
LAST-MODIFIED:20260425T123241
LOCATION:
SUMMARY:Sunday Worship
URL;VALUE=URI:https://eastellijaybaptist.com/events/sunday-worship/2024-05-
 12
END:VEVENT
END:VCALENDAR
