BEGIN:VCALENDAR
VERSION:2.0
PRODID:icalendar-ruby
CALSCALE:GREGORIAN
METHOD:PUBLISH
BEGIN:VEVENT
DTSTAMP:20260425T213452Z
UID:5-877600@eastellijaybaptist.com
DTSTART:20240602T150000Z
DTEND:20240602T160000Z
CLASS:PUBLIC
CREATED:20260425T151307
DESCRIPTION:Sunday Worship
LAST-MODIFIED:20260425T151307
LOCATION:
SUMMARY:Sunday Worship
URL;VALUE=URI:https://eastellijaybaptist.com/events/sunday-worship/2024-06-
 02
END:VEVENT
END:VCALENDAR
