BEGIN:VCALENDAR
VERSION:2.0
PRODID:icalendar-ruby
CALSCALE:GREGORIAN
METHOD:PUBLISH
BEGIN:VEVENT
DTSTAMP:20260426T003023Z
UID:5-878076@eastellijaybaptist.com
DTSTART:20240616T150000Z
DTEND:20240616T160000Z
CLASS:PUBLIC
CREATED:20260425T175522
DESCRIPTION:Sunday Worship
LAST-MODIFIED:20260425T175522
LOCATION:
SUMMARY:Sunday Worship
URL;VALUE=URI:https://eastellijaybaptist.com/events/sunday-worship/2024-06-
 16
END:VEVENT
END:VCALENDAR
