BEGIN:VCALENDAR
VERSION:2.0
PRODID:icalendar-ruby
CALSCALE:GREGORIAN
METHOD:PUBLISH
BEGIN:VEVENT
DTSTAMP:20260426T020714Z
UID:5-878551@eastellijaybaptist.com
DTSTART:20240623T150000Z
DTEND:20240623T160000Z
CLASS:PUBLIC
CREATED:20260425T203822
DESCRIPTION:Sunday Worship
LAST-MODIFIED:20260425T203822
LOCATION:
SUMMARY:Sunday Worship
URL;VALUE=URI:https://eastellijaybaptist.com/events/sunday-worship/2024-06-
 23
END:VEVENT
END:VCALENDAR
